BEGIN:VCALENDAR
VERSION:2.0
PRODID:-//BBN - ECPv6.15.16//NONSGML v1.0//EN
CALSCALE:GREGORIAN
METHOD:PUBLISH
X-WR-CALNAME:BBN
X-ORIGINAL-URL:https://www.bbns.org
X-WR-CALDESC:Events for BBN
REFRESH-INTERVAL;VALUE=DURATION:PT1H
X-Robots-Tag:noindex
X-PUBLISHED-TTL:PT1H
BEGIN:VTIMEZONE
TZID:America/New_York
BEGIN:DAYLIGHT
TZOFFSETFROM:-0500
TZOFFSETTO:-0400
TZNAME:EDT
DTSTART:20250309T070000
END:DAYLIGHT
BEGIN:STANDARD
TZOFFSETFROM:-0400
TZOFFSETTO:-0500
TZNAME:EST
DTSTART:20251102T060000
END:STANDARD
BEGIN:DAYLIGHT
TZOFFSETFROM:-0500
TZOFFSETTO:-0400
TZNAME:EDT
DTSTART:20260308T070000
END:DAYLIGHT
BEGIN:STANDARD
TZOFFSETFROM:-0400
TZOFFSETTO:-0500
TZNAME:EST
DTSTART:20261101T060000
END:STANDARD
BEGIN:DAYLIGHT
TZOFFSETFROM:-0500
TZOFFSETTO:-0400
TZNAME:EDT
DTSTART:20270314T070000
END:DAYLIGHT
BEGIN:STANDARD
TZOFFSETFROM:-0400
TZOFFSETTO:-0500
TZNAME:EST
DTSTART:20271107T060000
END:STANDARD
END:VTIMEZONE
BEGIN:VEVENT
DTSTART;TZID=America/New_York:20260427T170000
DTEND;TZID=America/New_York:20260427T235900
DTSTAMP:20260423T044645
CREATED:20260225T192050Z
LAST-MODIFIED:20260422T132326Z
UID:212284-1777309200-1777334340@www.bbns.org
SUMMARY:CANCELLED: (Cancelled) Varsity Baseball @ Roxbury
DESCRIPTION:
URL:https://www.bbns.org/calendar/varsity-baseball-roxbury-latin-2/
LOCATION:Roxbury Latin School\, 101 Saint Theresa Avenue\, West Roxbury\, MA\, 02132-3419\, United States
END:VEVENT
END:VCALENDAR